Package: batchCorr Version: 1.0.0 Command: /Library/Frameworks/R.framework/Resources/bin/R CMD build --keep-empty-dirs --no-resave-data batchCorr StartedAt: 2025-11-03 16:08:33 -0500 (Mon, 03 Nov 2025) EndedAt: 2025-11-03 16:11:08 -0500 (Mon, 03 Nov 2025) EllapsedTime: 155.1 seconds RetCode: 0 Status: OK PackageFile: batchCorr_1.0.0.tar.gz PackageFileSize: 900.5 KiB