Package: batchCorr Version: 1.0.0 Command: rm -rf batchCorr.buildbin-libdir && mkdir batchCorr.buildbin-libdir && /Users/biocbuild/BBS/utils/build-universal.sh batchCorr_1.0.0.tar.gz /Library/Frameworks/R.framework/Resources/bin/R batchCorr.buildbin-libdir StartedAt: 2025-11-04 01:28:45 -0500 (Tue, 04 Nov 2025) EndedAt: 2025-11-04 01:29:18 -0500 (Tue, 04 Nov 2025) EllapsedTime: 32.1 seconds RetCode: 0 Status: OK PackageFile: batchCorr_1.0.0.tgz PackageFileSize: 976.4 KiB