Package: batchCorr Version: 1.0.0 Command: /Library/Frameworks/R.framework/Resources/bin/R CMD INSTALL batchCorr StartedAt: 2025-11-10 15:13:58 -0500 (Mon, 10 Nov 2025) EndedAt: 2025-11-10 15:14:07 -0500 (Mon, 10 Nov 2025) EllapsedTime: 8.9 seconds RetCode: 0 Status: OK