Package: batchCorr Version: 1.0.0 Command: /Library/Frameworks/R.framework/Resources/bin/R CMD check --install=check:batchCorr.install-out.txt --library=/Library/Frameworks/R.framework/Resources/library --no-vignettes --timings batchCorr_1.0.0.tar.gz StartedAt: 2025-11-10 18:51:36 -0500 (Mon, 10 Nov 2025) EndedAt: 2025-11-10 18:54:07 -0500 (Mon, 10 Nov 2025) EllapsedTime: 150.9 seconds RetCode: 0 Status: OK CheckDir: batchCorr.Rcheck Warnings: 0