Package: batchCorr Version: 1.0.0 Command: /Library/Frameworks/R.framework/Resources/bin/R CMD build --keep-empty-dirs --no-resave-data batchCorr StartedAt: 2025-11-10 15:42:24 -0500 (Mon, 10 Nov 2025) EndedAt: 2025-11-10 15:43:23 -0500 (Mon, 10 Nov 2025) EllapsedTime: 58.6 seconds RetCode: 0 Status: OK PackageFile: batchCorr_1.0.0.tar.gz PackageFileSize: 900.6 KiB