Package: basilisk Version: 1.22.0 Command: /home/biocbuild/R/R/bin/R CMD INSTALL basilisk StartedAt: 2025-11-10 21:16:13 -0000 (Mon, 10 Nov 2025) EndedAt: 2025-11-10 21:16:40 -0000 (Mon, 10 Nov 2025) EllapsedTime: 27.4 seconds RetCode: 0 Status: OK