Package: basilisk Version: 1.22.0 Command: /home/biocbuild/R/R/bin/R CMD build --keep-empty-dirs --no-resave-data basilisk StartedAt: 2025-11-10 23:41:54 -0000 (Mon, 10 Nov 2025) EndedAt: 2025-11-10 23:42:54 -0000 (Mon, 10 Nov 2025) EllapsedTime: 60.0 seconds RetCode: 0 Status: OK PackageFile: basilisk_1.22.0.tar.gz PackageFileSize: 287.1 KiB