Package: basilisk Version: 1.22.0 Command: /home/biocbuild/bbs-3.22-bioc/R/bin/R CMD check --install=check:basilisk.install-out.txt --library=/home/biocbuild/bbs-3.22-bioc/R/site-library --timings basilisk_1.22.0.tar.gz StartedAt: 2025-11-11 21:24:46 -0500 (Tue, 11 Nov 2025) EndedAt: 2025-11-11 21:31:07 -0500 (Tue, 11 Nov 2025) EllapsedTime: 380.4 seconds RetCode: 0 Status: OK CheckDir: basilisk.Rcheck Warnings: 0