Package: basilisk Version: 1.22.0 Command: /home/biocbuild/bbs-3.22-bioc/R/bin/R CMD build --keep-empty-dirs --no-resave-data --md5 basilisk StartedAt: 2025-11-11 16:25:05 -0500 (Tue, 11 Nov 2025) EndedAt: 2025-11-11 16:25:51 -0500 (Tue, 11 Nov 2025) EllapsedTime: 46.0 seconds RetCode: 0 Status: OK PackageFile: basilisk_1.22.0.tar.gz PackageFileSize: 263.8 KiB