Package: basilisk Version: 1.20.0 Command: /home/biocbuild/R/R/bin/R CMD check --install=check:basilisk.install-out.txt --library=/home/biocbuild/R/R/site-library --no-vignettes --timings basilisk_1.20.0.tar.gz StartedAt: 2025-10-14 06:28:11 -0000 (Tue, 14 Oct 2025) EndedAt: 2025-10-14 06:57:38 -0000 (Tue, 14 Oct 2025) EllapsedTime: 1766.7 seconds RetCode: 0 Status: OK CheckDir: basilisk.Rcheck Warnings: 0