Package: basilisk.utils Version: 1.22.0 Command: /home/biocbuild/bbs-3.22-bioc/R/bin/R CMD check --install=check:basilisk.utils.install-out.txt --library=/home/biocbuild/bbs-3.22-bioc/R/site-library --timings basilisk.utils_1.22.0.tar.gz StartedAt: 2025-11-11 21:25:12 -0500 (Tue, 11 Nov 2025) EndedAt: 2025-11-11 21:26:45 -0500 (Tue, 11 Nov 2025) EllapsedTime: 93.0 seconds RetCode: 0 Status: OK CheckDir: basilisk.utils.Rcheck Warnings: 0