Package: basilisk.utils Version: 1.20.0 Command: /home/biocbuild/bbs-3.21-bioc/R/bin/R CMD check --install=check:basilisk.utils.install-out.txt --library=/home/biocbuild/bbs-3.21-bioc/R/site-library --timings basilisk.utils_1.20.0.tar.gz StartedAt: 2025-10-08 20:57:42 -0400 (Wed, 08 Oct 2025) EndedAt: 2025-10-08 20:58:02 -0400 (Wed, 08 Oct 2025) EllapsedTime: 20.0 seconds RetCode: 0 Status: OK CheckDir: basilisk.utils.Rcheck Warnings: 0