Package: basilisk.utils Version: 1.22.0 Command: /Library/Frameworks/R.framework/Resources/bin/R CMD check --install=check:basilisk.utils.install-out.txt --library=/Library/Frameworks/R.framework/Resources/library --no-vignettes --timings basilisk.utils_1.22.0.tar.gz StartedAt: 2025-10-31 19:39:41 -0400 (Fri, 31 Oct 2025) EndedAt: 2025-10-31 19:42:24 -0400 (Fri, 31 Oct 2025) EllapsedTime: 163.9 seconds RetCode: 0 Status: OK CheckDir: basilisk.utils.Rcheck Warnings: 0