Package: basecallQC Version: 1.34.0 Command: /home/biocbuild/bbs-3.22-bioc/R/bin/R CMD INSTALL basecallQC StartedAt: 2025-11-11 15:55:58 -0500 (Tue, 11 Nov 2025) EndedAt: 2025-11-11 15:56:56 -0500 (Tue, 11 Nov 2025) EllapsedTime: 58.8 seconds RetCode: 0 Status: OK