Package: basecallQC Version: 1.32.0 Command: /home/biocbuild/R/R/bin/R CMD INSTALL basecallQC StartedAt: 2025-10-13 21:08:24 -0000 (Mon, 13 Oct 2025) EndedAt: 2025-10-13 21:09:40 -0000 (Mon, 13 Oct 2025) EllapsedTime: 76.7 seconds RetCode: 0 Status: OK