Package: basecallQC Version: 1.32.0 Command: /home/biocbuild/R/R/bin/R CMD build --keep-empty-dirs --no-resave-data basecallQC StartedAt: 2025-10-13 22:45:18 -0000 (Mon, 13 Oct 2025) EndedAt: 2025-10-13 22:47:18 -0000 (Mon, 13 Oct 2025) EllapsedTime: 120.0 seconds RetCode: 0 Status: OK PackageFile: basecallQC_1.32.0.tar.gz PackageFileSize: 1.538 MiB