Package: basecallQC Version: 1.32.0 Command: /Library/Frameworks/R.framework/Resources/bin/R CMD build --keep-empty-dirs --no-resave-data basecallQC StartedAt: 2025-04-21 15:40:30 -0400 (Mon, 21 Apr 2025) EndedAt: 2025-04-21 15:41:04 -0400 (Mon, 21 Apr 2025) EllapsedTime: 34.4 seconds RetCode: 0 Status: OK PackageFile: basecallQC_1.32.0.tar.gz PackageFileSize: 1.526 MiB