Package: basecallQC Version: 1.32.0 Command: rm -rf basecallQC.buildbin-libdir && mkdir basecallQC.buildbin-libdir && /Users/biocbuild/BBS/utils/build-universal.sh basecallQC_1.32.0.tar.gz /Library/Frameworks/R.framework/Resources/bin/R basecallQC.buildbin-libdir StartedAt: 2025-04-21 22:26:50 -0400 (Mon, 21 Apr 2025) EndedAt: 2025-04-21 22:27:12 -0400 (Mon, 21 Apr 2025) EllapsedTime: 22.5 seconds RetCode: 0 Status: OK PackageFile: basecallQC_1.32.0.tgz PackageFileSize: 1.261 MiB