Package: barcodetrackR Version: 1.18.0 Command: /home/biocbuild/bbs-3.22-bioc/R/bin/R CMD INSTALL barcodetrackR StartedAt: 2025-11-13 15:18:57 -0500 (Thu, 13 Nov 2025) EndedAt: 2025-11-13 15:19:22 -0500 (Thu, 13 Nov 2025) EllapsedTime: 24.8 seconds RetCode: 0 Status: OK