Package: barcodetrackR Version: 1.18.0 Command: /home/biocbuild/bbs-3.22-bioc/R/bin/R CMD build --keep-empty-dirs --no-resave-data --md5 barcodetrackR StartedAt: 2025-11-13 16:20:48 -0500 (Thu, 13 Nov 2025) EndedAt: 2025-11-13 16:22:05 -0500 (Thu, 13 Nov 2025) EllapsedTime: 77.1 seconds RetCode: 0 Status: OK PackageFile: barcodetrackR_1.18.0.tar.gz PackageFileSize: 3.439 MiB