Package: barcodetrackR Version: 1.18.0 Command: /Library/Frameworks/R.framework/Resources/bin/R CMD INSTALL barcodetrackR StartedAt: 2025-11-10 15:11:57 -0500 (Mon, 10 Nov 2025) EndedAt: 2025-11-10 15:12:08 -0500 (Mon, 10 Nov 2025) EllapsedTime: 10.9 seconds RetCode: 0 Status: OK