Package: barcodetrackR Version: 1.18.0 Command: /Library/Frameworks/R.framework/Resources/bin/R CMD build --keep-empty-dirs --no-resave-data barcodetrackR StartedAt: 2025-11-10 15:41:18 -0500 (Mon, 10 Nov 2025) EndedAt: 2025-11-10 15:41:50 -0500 (Mon, 10 Nov 2025) EllapsedTime: 32.3 seconds RetCode: 0 Status: OK PackageFile: barcodetrackR_1.18.0.tar.gz PackageFileSize: 3.562 MiB