Package: barcodetrackR Version: 1.18.0 Command: rm -rf barcodetrackR.buildbin-libdir && mkdir barcodetrackR.buildbin-libdir && /Users/biocbuild/BBS/utils/build-universal.sh barcodetrackR_1.18.0.tar.gz /Library/Frameworks/R.framework/Resources/bin/R barcodetrackR.buildbin-libdir StartedAt: 2025-11-10 23:11:53 -0500 (Mon, 10 Nov 2025) EndedAt: 2025-11-10 23:12:05 -0500 (Mon, 10 Nov 2025) EllapsedTime: 12.2 seconds RetCode: 0 Status: OK PackageFile: barcodetrackR_1.18.0.tgz PackageFileSize: 3.757 MiB