Package: banocc Version: 1.34.0 Command: /home/biocbuild/bbs-3.22-bioc/R/bin/R CMD INSTALL banocc StartedAt: 2025-11-02 15:14:15 -0500 (Sun, 02 Nov 2025) EndedAt: 2025-11-02 15:14:41 -0500 (Sun, 02 Nov 2025) EllapsedTime: 26.3 seconds RetCode: 0 Status: OK