Package: banocc Version: 1.34.0 Command: /home/biocbuild/bbs-3.22-bioc/R/bin/R CMD build --keep-empty-dirs --no-resave-data --md5 banocc StartedAt: 2025-11-03 16:21:16 -0500 (Mon, 03 Nov 2025) EndedAt: 2025-11-03 16:24:21 -0500 (Mon, 03 Nov 2025) EllapsedTime: 185.2 seconds RetCode: 0 Status: OK PackageFile: banocc_1.34.0.tar.gz PackageFileSize: 26.08 MiB