Package: bandle Version: 1.14.0 Command: /home/biocbuild/bbs-3.22-bioc/R/bin/R CMD INSTALL bandle StartedAt: 2025-11-11 15:43:04 -0500 (Tue, 11 Nov 2025) EndedAt: 2025-11-11 15:44:39 -0500 (Tue, 11 Nov 2025) EllapsedTime: 94.7 seconds RetCode: 0 Status: OK