Package: bamsignals Version: 1.42.0 Command: /home/biocbuild/bbs-3.22-bioc/R/bin/R CMD INSTALL bamsignals StartedAt: 2025-11-13 15:15:44 -0500 (Thu, 13 Nov 2025) EndedAt: 2025-11-13 15:16:03 -0500 (Thu, 13 Nov 2025) EllapsedTime: 19.7 seconds RetCode: 0 Status: OK