Package: bamsignals Version: 1.42.0 Command: /home/biocbuild/bbs-3.22-bioc/R/bin/R CMD build --keep-empty-dirs --no-resave-data --md5 bamsignals StartedAt: 2025-11-13 16:19:49 -0500 (Thu, 13 Nov 2025) EndedAt: 2025-11-13 16:20:18 -0500 (Thu, 13 Nov 2025) EllapsedTime: 29.0 seconds RetCode: 0 Status: OK PackageFile: bamsignals_1.42.0.tar.gz PackageFileSize: 3.339 MiB