Package: bambu Version: 3.12.0 Command: /home/biocbuild/bbs-3.22-bioc/R/bin/R CMD INSTALL bambu StartedAt: 2025-11-14 15:47:51 -0500 (Fri, 14 Nov 2025) EndedAt: 2025-11-14 15:48:47 -0500 (Fri, 14 Nov 2025) EllapsedTime: 55.7 seconds RetCode: 0 Status: OK