Package: bambu Version: 3.12.0 Command: /home/biocbuild/bbs-3.22-bioc/R/bin/R CMD build --keep-empty-dirs --no-resave-data --md5 bambu StartedAt: 2025-11-14 16:20:46 -0500 (Fri, 14 Nov 2025) EndedAt: 2025-11-14 16:33:27 -0500 (Fri, 14 Nov 2025) EllapsedTime: 760.6 seconds RetCode: 0 Status: OK PackageFile: bambu_3.12.0.tar.gz PackageFileSize: 2.27 MiB