Package: ballgown Version: 2.42.0 Command: /home/biocbuild/bbs-3.22-bioc/R/bin/R CMD build --keep-empty-dirs --no-resave-data --md5 ballgown StartedAt: 2025-10-31 16:28:19 -0400 (Fri, 31 Oct 2025) EndedAt: 2025-10-31 16:29:11 -0400 (Fri, 31 Oct 2025) EllapsedTime: 52.0 seconds RetCode: 0 Status: OK PackageFile: ballgown_2.42.0.tar.gz PackageFileSize: 3.051 MiB