Package: bacon Version: 1.38.0 Command: /home/biocbuild/bbs-3.22-bioc/R/bin/R CMD build --keep-empty-dirs --no-resave-data --md5 bacon StartedAt: 2025-11-11 16:21:54 -0500 (Tue, 11 Nov 2025) EndedAt: 2025-11-11 16:22:36 -0500 (Tue, 11 Nov 2025) EllapsedTime: 42.0 seconds RetCode: 0 Status: OK PackageFile: bacon_1.38.0.tar.gz PackageFileSize: 1.878 MiB