Package: bacon Version: 1.38.0 Command: /Library/Frameworks/R.framework/Resources/bin/R CMD INSTALL bacon StartedAt: 2025-11-03 15:14:25 -0500 (Mon, 03 Nov 2025) EndedAt: 2025-11-03 15:15:05 -0500 (Mon, 03 Nov 2025) EllapsedTime: 39.5 seconds RetCode: 0 Status: OK