Package: bacon Version: 1.38.0 Command: rm -rf bacon.buildbin-libdir && mkdir bacon.buildbin-libdir && /Users/biocbuild/BBS/utils/build-universal.sh bacon_1.38.0.tar.gz /Library/Frameworks/R.framework/Resources/bin/R bacon.buildbin-libdir StartedAt: 2025-11-03 01:28:52 -0500 (Mon, 03 Nov 2025) EndedAt: 2025-11-03 01:29:06 -0500 (Mon, 03 Nov 2025) EllapsedTime: 14.7 seconds RetCode: 0 Status: OK PackageFile: bacon_1.38.0.tgz PackageFileSize: 2.235 MiB