Package: bacon Version: 1.36.0 Command: /home/biocbuild/R/R/bin/R CMD build --keep-empty-dirs --no-resave-data bacon StartedAt: 2025-10-02 22:40:44 -0000 (Thu, 02 Oct 2025) EndedAt: 2025-10-02 22:41:47 -0000 (Thu, 02 Oct 2025) EllapsedTime: 63.0 seconds RetCode: 0 Status: OK PackageFile: bacon_1.36.0.tar.gz PackageFileSize: 1.891 MiB