Package: bacon Version: 1.36.0 Command: /Library/Frameworks/R.framework/Resources/bin/R CMD build --keep-empty-dirs --no-resave-data bacon StartedAt: 2025-10-13 19:24:21 -0400 (Mon, 13 Oct 2025) EndedAt: 2025-10-13 19:25:13 -0400 (Mon, 13 Oct 2025) EllapsedTime: 51.6 seconds RetCode: 0 Status: OK PackageFile: bacon_1.36.0.tar.gz PackageFileSize: 2.088 MiB