Package: awst Version: 1.18.0 Command: /home/biocbuild/bbs-3.22-bioc/R/bin/R CMD INSTALL awst StartedAt: 2025-11-11 15:25:13 -0500 (Tue, 11 Nov 2025) EndedAt: 2025-11-11 15:25:32 -0500 (Tue, 11 Nov 2025) EllapsedTime: 18.9 seconds RetCode: 0 Status: OK