Package: awst Version: 1.18.0 Command: /Library/Frameworks/R.framework/Resources/bin/R CMD INSTALL awst StartedAt: 2025-11-10 15:13:44 -0500 (Mon, 10 Nov 2025) EndedAt: 2025-11-10 15:13:52 -0500 (Mon, 10 Nov 2025) EllapsedTime: 7.9 seconds RetCode: 0 Status: OK