Package: awst Version: 1.18.0 Command: /Library/Frameworks/R.framework/Resources/bin/R CMD build --keep-empty-dirs --no-resave-data awst StartedAt: 2025-11-10 15:40:16 -0500 (Mon, 10 Nov 2025) EndedAt: 2025-11-10 15:40:35 -0500 (Mon, 10 Nov 2025) EllapsedTime: 19.2 seconds RetCode: 0 Status: OK PackageFile: awst_1.18.0.tar.gz PackageFileSize: 445.2 KiB