Package: awst Version: 1.18.0 Command: rm -rf awst.buildbin-libdir && mkdir awst.buildbin-libdir && /Users/biocbuild/BBS/utils/build-universal.sh awst_1.18.0.tar.gz /Library/Frameworks/R.framework/Resources/bin/R awst.buildbin-libdir StartedAt: 2025-11-10 23:11:39 -0500 (Mon, 10 Nov 2025) EndedAt: 2025-11-10 23:11:48 -0500 (Mon, 10 Nov 2025) EllapsedTime: 9.2 seconds RetCode: 0 Status: OK PackageFile: awst_1.18.0.tgz PackageFileSize: 464.3 KiB