Package: autonomics Version: 1.18.0 Command: /home/biocbuild/bbs-3.22-bioc/R/bin/R CMD check --install=check:autonomics.install-out.txt --library=/home/biocbuild/bbs-3.22-bioc/R/site-library --timings autonomics_1.18.0.tar.gz StartedAt: 2025-11-25 21:39:09 -0500 (Tue, 25 Nov 2025) EndedAt: 2025-11-25 21:58:50 -0500 (Tue, 25 Nov 2025) EllapsedTime: 1181.3 seconds RetCode: 0 Status: OK CheckDir: autonomics.Rcheck Warnings: 0