Package: autonomics Version: 1.18.0 Command: /Library/Frameworks/R.framework/Resources/bin/R CMD INSTALL autonomics StartedAt: 2025-11-03 15:28:47 -0500 (Mon, 03 Nov 2025) EndedAt: 2025-11-03 15:29:44 -0500 (Mon, 03 Nov 2025) EllapsedTime: 57.7 seconds RetCode: 0 Status: OK