Package: autonomics Version: 1.18.0 Command: /Library/Frameworks/R.framework/Resources/bin/R CMD build --keep-empty-dirs --no-resave-data autonomics StartedAt: 2025-11-03 16:05:58 -0500 (Mon, 03 Nov 2025) EndedAt: 2025-11-03 16:08:29 -0500 (Mon, 03 Nov 2025) EllapsedTime: 150.5 seconds RetCode: 0 Status: OK PackageFile: autonomics_1.18.0.tar.gz PackageFileSize: 2.527 MiB