Package: autonomics Version: 1.18.0 Command: rm -rf autonomics.buildbin-libdir && mkdir autonomics.buildbin-libdir && /Users/biocbuild/BBS/utils/build-universal.sh autonomics_1.18.0.tar.gz /Library/Frameworks/R.framework/Resources/bin/R autonomics.buildbin-libdir StartedAt: 2025-11-04 01:28:14 -0500 (Tue, 04 Nov 2025) EndedAt: 2025-11-04 01:29:16 -0500 (Tue, 04 Nov 2025) EllapsedTime: 62.1 seconds RetCode: 0 Status: OK PackageFile: autonomics_1.18.0.tgz PackageFileSize: 3.588 MiB