Package: attract Version: 1.62.0 Command: /home/biocbuild/bbs-3.22-bioc/R/bin/R CMD build --keep-empty-dirs --no-resave-data --md5 attract StartedAt: 2025-11-13 16:17:24 -0500 (Thu, 13 Nov 2025) EndedAt: 2025-11-13 16:19:49 -0500 (Thu, 13 Nov 2025) EllapsedTime: 144.1 seconds RetCode: 0 Status: OK PackageFile: attract_1.62.0.tar.gz PackageFileSize: 4.295 MiB