Package: atena Version: 1.14.1 Command: /home/biocbuild/R/R/bin/R CMD INSTALL atena StartedAt: 2025-10-13 20:54:00 -0000 (Mon, 13 Oct 2025) EndedAt: 2025-10-13 20:54:59 -0000 (Mon, 13 Oct 2025) EllapsedTime: 59.4 seconds RetCode: 0 Status: OK