Package: atena Version: 1.14.1 Command: /home/biocbuild/R/R/bin/R CMD build --keep-empty-dirs --no-resave-data atena StartedAt: 2025-10-13 22:39:09 -0000 (Mon, 13 Oct 2025) EndedAt: 2025-10-13 22:57:18 -0000 (Mon, 13 Oct 2025) EllapsedTime: 1089.2 seconds RetCode: 0 Status: OK PackageFile: atena_1.14.1.tar.gz PackageFileSize: 1.34 MiB