Package: atena Version: 1.16.0 Command: rm -rf atena.buildbin-libdir && mkdir atena.buildbin-libdir && /Users/biocbuild/BBS/utils/build-universal.sh atena_1.16.0.tar.gz /Library/Frameworks/R.framework/Resources/bin/R atena.buildbin-libdir StartedAt: 2025-10-31 22:58:18 -0400 (Fri, 31 Oct 2025) EndedAt: 2025-10-31 22:58:36 -0400 (Fri, 31 Oct 2025) EllapsedTime: 18.3 seconds RetCode: 0 Status: OK PackageFile: atena_1.16.0.tgz PackageFileSize: 1.759 MiB