Package: atSNP Version: 1.26.0 Command: /home/biocbuild/bbs-3.22-bioc/R/bin/R CMD build --keep-empty-dirs --no-resave-data --md5 atSNP StartedAt: 2025-11-11 16:20:00 -0500 (Tue, 11 Nov 2025) EndedAt: 2025-11-11 16:21:22 -0500 (Tue, 11 Nov 2025) EllapsedTime: 82.0 seconds RetCode: 0 Status: OK PackageFile: atSNP_1.26.0.tar.gz PackageFileSize: 960.6 KiB