Package: atSNP Version: 1.24.0 Command: /home/biocbuild/R/R/bin/R CMD build --keep-empty-dirs --no-resave-data atSNP StartedAt: 2025-10-13 22:39:32 -0000 (Mon, 13 Oct 2025) EndedAt: 2025-10-13 22:41:27 -0000 (Mon, 13 Oct 2025) EllapsedTime: 115.0 seconds RetCode: 0 Status: OK PackageFile: atSNP_1.24.0.tar.gz PackageFileSize: 961.6 KiB